BEGIN:VCALENDAR
VERSION:2.0
PRODID:-//Samen Lachen - ECPv6.15.20//NONSGML v1.0//EN
CALSCALE:GREGORIAN
METHOD:PUBLISH
X-ORIGINAL-URL:https://samenlachen.nl
X-WR-CALDESC:Evenementen voor Samen Lachen
REFRESH-INTERVAL;VALUE=DURATION:PT1H
X-Robots-Tag:noindex
X-PUBLISHED-TTL:PT1H
BEGIN:VTIMEZONE
TZID:UTC
BEGIN:STANDARD
TZOFFSETFROM:+0000
TZOFFSETTO:+0000
TZNAME:UTC
DTSTART:20220101T000000
END:STANDARD
END:VTIMEZONE
BEGIN:VEVENT
DTSTART;TZID=UTC:20241123T131500
DTEND;TZID=UTC:20241123T153000
DTSTAMP:20260423T083023
CREATED:20241104T180939Z
LAST-MODIFIED:20241113T210832Z
UID:11895-1732367700-1732375800@samenlachen.nl
SUMMARY:VOL! Pokemon speurtocht in Miniworld op 23 november
DESCRIPTION:Dit uitje zit helaas vol \nHeb jij zin in een spannend avontuur? Meld je dan aan voor ons uitje naar MiniWorld Rotterdam op zaterdag 23 november! We verzamelen om 13:15 bij MiniWorld Rotterdam op Weena 745\, waar we samen op Pokémon-speurtocht gaan. Tussen de treinen\, bergen\, steden en rivieren zoeken we naar alle verborgen Pokémon! Na de speurtocht smullen we van een heerlijk kindermenu. Om 15:30 kun je weer worden opgehaald. Het wordt een dag vol plezier\, avontuur en nieuwe vrienden. Hopelijk zie je ons daar! \nAanvullende informatie\, let op:\nHet is voor de leeftijd 4 t/m 12 jaar en we hebben plek voor 40 kinderen. Al onze uitjes zijn gratis en worden verzorgd door ervaren vrijwilligers met een VOG. Zo garanderen we dat uw kinderen leuk en veilig kunnen spelen. Het is niet toegestaan dat ouders meegaan. \nGeef je op via het aanmeldformulier! \nAanvullende informatie\, let op: aanmeldingen zijn beperkt\, vol = vol. Wees er dus op tijd bij! \n\n\n\n\nDatum:  Zaterdag 23 november\nTijd: 13:15 – 15:30\nLocatie: Miniworld Rotterdam\, Weena 745\nAantal: maximaal 40 kinderen\nLeeftijd: 4 tot 12 jaar\nAl onze acties zijn gratis. Kinderen mogen gratis met het OV\, voor ouders kunnen wij kaartjes vergoeden\, stuur daarvoor het bonnetje naar ons mailadres: rotterdam@samenlachen.nl \n\n\n\n\nWij hebben er veel zin in\, jullie hopelijk ook! \nLet op:\nDe aanmeldingen gaan per maximaal 4 kinderen. Wil je meer kinderen aanmelden?\nVernieuw dan de pagina na je aanmelding en vul het formulier opnieuw in. \nGroetjes\, \nSamen Lachen Rotterdam
URL:https://samenlachen.nl/event/pokemon-speurtocht-in-miniworld-op-23-november/
CATEGORIES:Ontdekken,Rotterdam voedselbank,Speeltuin
ATTACH;FMTTYPE=image/png:https://samenlachen.nl/wp-content/uploads/2022/03/Ontdekken.png
END:VEVENT
BEGIN:VEVENT
DTSTART;TZID=UTC:20241123T131500
DTEND;TZID=UTC:20241123T153000
DTSTAMP:20260423T083023
CREATED:20241104T180659Z
LAST-MODIFIED:20241113T210945Z
UID:11891-1732367700-1732375800@samenlachen.nl
SUMMARY:VOL! Pokemon speurtocht in Miniworld op 23 november
DESCRIPTION:Dit uitje zit helaas vol! \nHeb jij zin in een spannend avontuur? Meld je dan aan voor ons uitje naar MiniWorld Rotterdam op zaterdag 23 november! We verzamelen om 13:15 bij MiniWorld Rotterdam op Weena 745\, waar we samen op Pokémon-speurtocht gaan. Tussen de treinen\, bergen\, steden en rivieren zoeken we naar alle verborgen Pokémon! Na de speurtocht smullen we van een heerlijk kindermenu. Om 15:30 kun je weer worden opgehaald. Het wordt een dag vol plezier\, avontuur en nieuwe vrienden. Hopelijk zie je ons daar! \nAanvullende informatie\, let op:\nHet is voor de leeftijd 4 t/m 12 jaar en we hebben plek voor 40 kinderen. Al onze uitjes zijn gratis en worden verzorgd door ervaren vrijwilligers met een VOG. Zo garanderen we dat uw kinderen leuk en veilig kunnen spelen. Het is niet toegestaan dat ouders meegaan. \nGeef je op via het aanmeldformulier! \nAanvullende informatie\, let op: aanmeldingen zijn beperkt\, vol = vol. Wees er dus op tijd bij! \n\n\n\n\nDatum:  Zaterdag 23 november\nTijd: 13:15 – 15:30\nLocatie: Miniworld Rotterdam\, Weena 745\nAantal: maximaal 40 kinderen\nLeeftijd: 4 tot 12 jaar\nAl onze acties zijn gratis. Kinderen mogen gratis met het OV\, voor ouders kunnen wij kaartjes vergoeden\, stuur daarvoor het bonnetje naar ons mailadres: rotterdam@samenlachen.nl \n\n\n\n\nWij hebben er veel zin in\, jullie hopelijk ook! \nLet op:\nDe aanmeldingen gaan per maximaal 4 kinderen. Wil je meer kinderen aanmelden?\nVernieuw dan de pagina na je aanmelding en vul het formulier opnieuw in. \nGroetjes\, \nSamen Lachen Rotterdam
URL:https://samenlachen.nl/event/miniworld-rotterdam/
CATEGORIES:Ontdekken,Rotterdam,Speeltuin
ATTACH;FMTTYPE=image/png:https://samenlachen.nl/wp-content/uploads/2022/03/Ontdekken.png
END:VEVENT
BEGIN:VEVENT
DTSTART;TZID=UTC:20240921T093000
DTEND;TZID=UTC:20240921T160000
DTSTAMP:20260423T083023
CREATED:20240830T094129Z
LAST-MODIFIED:20240831T125914Z
UID:11635-1726911000-1726934400@samenlachen.nl
SUMMARY:VOL! We gaan naar Drievliet op 21 september!
DESCRIPTION:Dit uitje zit helaas vol\, in oktober is er weer een uitje. \nOp zaterdag 21 september gaan we naar het pretpark Drievliet! De kinderen zullen samen met de vrijwilligers een avontuurlijke dag met leuke attracties\, shows en entertainment beleven. Daarnaast zullen we met de kinderen gaan lunchen en zorgen we ook voor wat lekkers. \nKom jij ook? Tot zaterdag de 21ste! \n\nAanvullende informatie\, let op:\nHet is voor de leeftijd 4 t/m 12 jaar en we hebben plek voor 40 kinderen. Al onze uitjes zijn gratis en worden verzorgd door ervaren vrijwilligers met een VOG. Zo garanderen we dat uw kinderen leuk en veilig kunnen spelen. Het is niet toegestaan dat ouders meegaan. \nTot dan. \nGeef je op via het aanmeldformulier! \nAanvullende informatie\, let op: aanmeldingen zijn beperkt\, vol = vol. Wees er dus op tijd bij! \n\n\n\n\nDatum:  Zaterdag 21 september\nLocatie: Metrohalte Kralingse Zoom (Kralingse Zoom 70\, 3062 SM\, Rotterdam) – daar staat een bus voor ons klaar!\nTijdstip: 09:30 – 16:00 (incl. eten)\nAantal: maximaal 40 kinderen\nLeeftijd: 4 tot 12 jaar\nAl onze acties zijn gratis. Kinderen mogen gratis met het OV\, voor ouders kunnen wij kaartjes vergoeden\, stuur daarvoor het bonnetje naar ons mailadres: rotterdam@samenlachen.nl \n\n\n\n\nWij hebben er veel zin in\, jullie hopelijk ook! \nLet op:\nDe aanmeldingen gaan per maximaal 4 kinderen. Wil je meer kinderen aanmelden?\nVernieuw dan de pagina na je aanmelding en vul het formulier opnieuw in. \nGroetjes\, \nSamen Lachen Rotterdam
URL:https://samenlachen.nl/event/we-gaan-naar-drievliet-op-21-september/
CATEGORIES:Rotterdam voedselbank,Speeltuin,Sport
ATTACH;FMTTYPE=image/png:https://samenlachen.nl/wp-content/uploads/2022/09/Sport.png
END:VEVENT
BEGIN:VEVENT
DTSTART;TZID=UTC:20240921T093000
DTEND;TZID=UTC:20240921T160000
DTSTAMP:20260423T083023
CREATED:20240830T084850Z
LAST-MODIFIED:20240831T125304Z
UID:11625-1726911000-1726934400@samenlachen.nl
SUMMARY:VOL We gaan naar Drievliet op 21 september!
DESCRIPTION:Dit uitje zit helaas vol\, in oktober is er weer een uitje.  \nOp zaterdag 21 september gaan we naar het pretpark Drievliet! De kinderen zullen samen met de vrijwilligers een avontuurlijke dag met leuke attracties\, shows en entertainment beleven. Daarnaast zullen we met de kinderen gaan lunchen en zorgen we ook voor wat lekkers. \nKom jij ook? Tot zaterdag de 21ste! \n\nAanvullende informatie\, let op:\nHet is voor de leeftijd 4 t/m 12 jaar en we hebben plek voor 40 kinderen. Al onze uitjes zijn gratis en worden verzorgd door ervaren vrijwilligers met een VOG. Zo garanderen we dat uw kinderen leuk en veilig kunnen spelen. Het is niet toegestaan dat ouders meegaan. \nTot dan. \nGeef je op via het aanmeldformulier! \nAanvullende informatie\, let op: aanmeldingen zijn beperkt\, vol = vol. Wees er dus op tijd bij! \n\n\n\n\nDatum:  Zaterdag 21 september\nLocatie: Metrohalte Kralingse Zoom (Kralingse Zoom 70\, 3062 SM\, Rotterdam) – daar staat een bus voor ons klaar!\nTijdstip: 09:30 – 16:00 (incl. eten)\nAantal: maximaal 40 kinderen\nLeeftijd: 4 tot 12 jaar\nAl onze acties zijn gratis. Kinderen mogen gratis met het OV\, voor ouders kunnen wij kaartjes vergoeden\, stuur daarvoor het bonnetje naar ons mailadres: rotterdam@samenlachen.nl \n\n\n\n\nWij hebben er veel zin in\, jullie hopelijk ook! \nLet op:\nDe aanmeldingen gaan per maximaal 4 kinderen. Wil je meer kinderen aanmelden?\nVernieuw dan de pagina na je aanmelding en vul het formulier opnieuw in. \nGroetjes\, \nSamen Lachen Rotterdam
URL:https://samenlachen.nl/event/drievliet-2024/
CATEGORIES:Rotterdam,Speeltuin,Sport
ATTACH;FMTTYPE=image/png:https://samenlachen.nl/wp-content/uploads/2022/09/Sport.png
END:VEVENT
BEGIN:VEVENT
DTSTART;TZID=UTC:20240323T100000
DTEND;TZID=UTC:20240323T133000
DTSTAMP:20260423T083023
CREATED:20240305T063138Z
LAST-MODIFIED:20240308T073906Z
UID:10753-1711188000-1711200600@samenlachen.nl
SUMMARY:[vol] Klimmen en klauteren in Bungelland op 23 maart
DESCRIPTION:Inhoud is beschermd.
URL:https://samenlachen.nl/event/bungelland2024/
CATEGORIES:Rotterdam,Rotterdam voedselbank,Speeltuin
END:VEVENT
BEGIN:VEVENT
DTSTART;TZID=UTC:20231125T104500
DTEND;TZID=UTC:20231125T154500
DTSTAMP:20260423T083023
CREATED:20230927T053458Z
LAST-MODIFIED:20231117T073027Z
UID:10013-1700909100-1700927100@samenlachen.nl
SUMMARY:Monkey Town
DESCRIPTION:Aanmelden voor MonkeyTown op 25 november is helaas niet meer mogelijk\, want het uitje zit vol. \nMeld je alvast aan voor Loulou & Lou Sinterklaasband op 2 of 3 december of het Wintercircus op 30 december\, daar is nog ruimte voor aanmeldingen.
URL:https://samenlachen.nl/event/monkey-town-samen-lachen-eindhoven-kinderen-uitje/
LOCATION:MonkeyTown Eindhoven\, Vijfkamplaan 15\, Eindhoven\, 5624 EB\, Nederland
CATEGORIES:Eindhoven,Speeltuin,Sport
ORGANIZER;CN="Eindhoven":MAILTO:eindhoven@samenlachen.nl
END:VEVENT
END:VCALENDAR